BEGIN:VCALENDAR
VERSION:2.0
PRODID:icalendar-ruby
CALSCALE:GREGORIAN
METHOD:PUBLISH
BEGIN:VEVENT
DTSTAMP:20260420T033406Z
UID:109-641479@stlukeumc.com
DTSTART:20260502T140000Z
DTEND:20260503T170000Z
CLASS:PUBLIC
CREATED:20260415T093935
DESCRIPTION:\n\n\n\nYouth Fundraiser: Spring Plant &amp\; Flower Sale May 2
  &amp\; 3\n\n\n\n\n\n\n\n\nSt. Luke’s youth group raises all its operati
 ng funds for programming through multiple fundraisers throughout the year.
  The funds help cover mission trips\, ministry supplies\, outreach expense
 s for service projects\, Children's Ministry and fun outings for the yout
 h. \n \nHelp support our Youth Ministry by purchasing seedlings for your
  garden from the youth. We will have a wonderful selection of native flowe
 rs and grasses perfect for creating sustainable and beautiful landscaping.
  A majority of the plants are perennials that will come back every year.
  These are being provided by a local wholesaler in Lincoln. Not only are
  these great for the Nebraska eco-system but we are supporting a local sma
 ll business with this fundraiser.\n \nIn addition\, we have a large varie
 ty of herbs and veggies for your produce garden. These are provided in pa
 rtnership with the non-profit organization\, The Big Garden. We are very 
 excited to be working alongside this wonderful organization to provide qua
 lity seedlings for your produce gardens.\n \nWe have lots of beautiful op
 tions for your garden.  Please come check it out for yourself. And tell 
 your neighbors and friends!\n \nThe sale will be Saturday\, May 2 from 9:
 00am-4:00pm and on Sunday\, May 3 from 9:00am-12:00pm in St. Luke’s Grea
 t Room.  Park in the upper parking lot and use the upper bell tower door
 s.\n \nWe aim to have $2\,000 in sales in order to get $1\,000 profit. T
 hank you for supporting the youth program with your gardens!\n \nFor ques
 tions\, contact Sarah Archer at sarcher@StLukeUMC.com or text/call 832-
 655-4752.\n\n\n\n
LAST-MODIFIED:20260415T093935
LOCATION:Great Room
SUMMARY:Youth Fundraiser:  Plant & Flower Sale May 2-3
URL;VALUE=URI:https://stlukeumc.com/events/youth-fundraiser-plant-flower-sa
 le-may-2-3/2026-05-02
END:VEVENT
END:VCALENDAR
