BEGIN:VCALENDAR
VERSION:2.0
PRODID:icalendar-ruby
CALSCALE:GREGORIAN
METHOD:PUBLISH
BEGIN:VEVENT
DTSTAMP:20260421T130916Z
UID:95-319656@stlukeumc.com
DTSTART:20260426T140000Z
DTEND:20260426T170000Z
CLASS:PUBLIC
CREATED:20260115T123443
DESCRIPTION:One element of Lent is looking outside ourselves\, which is why
  many look for opportunities to fast and serve during Lent. Again\, this y
 ear St. Luke\, we are having our annual church-wide Day of Service on Sund
 ay\, April 26. We will not have worship services this day but will have op
 portunities for us to go out and serve in our community. Watch for more de
 tails in upcoming weekly emails.
LAST-MODIFIED:20260115T123443
LOCATION:
SUMMARY:Day of Service
URL;VALUE=URI:https://stlukeumc.com/events/day-of-service/2026-04-26
END:VEVENT
END:VCALENDAR
